BEGIN:VCALENDAR
VERSION:2.0
PRODID:-//Netzwerk Kultur- und Musikmanagement - ECPv6.15.12.2//NONSGML v1.0//EN
CALSCALE:GREGORIAN
METHOD:PUBLISH
X-WR-CALNAME:Netzwerk Kultur- und Musikmanagement
X-ORIGINAL-URL:https://www.kulturmanagement-netzwerk.de
X-WR-CALDESC:Veranstaltungen für Netzwerk Kultur- und Musikmanagement
REFRESH-INTERVAL;VALUE=DURATION:PT1H
X-Robots-Tag:noindex
X-PUBLISHED-TTL:PT1H
BEGIN:VTIMEZONE
TZID:Europe/Helsinki
BEGIN:DAYLIGHT
TZOFFSETFROM:+0200
TZOFFSETTO:+0300
TZNAME:EEST
DTSTART:20240331T010000
END:DAYLIGHT
BEGIN:STANDARD
TZOFFSETFROM:+0300
TZOFFSETTO:+0200
TZNAME:EET
DTSTART:20241027T010000
END:STANDARD
BEGIN:DAYLIGHT
TZOFFSETFROM:+0200
TZOFFSETTO:+0300
TZNAME:EEST
DTSTART:20250330T010000
END:DAYLIGHT
BEGIN:STANDARD
TZOFFSETFROM:+0300
TZOFFSETTO:+0200
TZNAME:EET
DTSTART:20251026T010000
END:STANDARD
BEGIN:DAYLIGHT
TZOFFSETFROM:+0200
TZOFFSETTO:+0300
TZNAME:EEST
DTSTART:20260329T010000
END:DAYLIGHT
BEGIN:STANDARD
TZOFFSETFROM:+0300
TZOFFSETTO:+0200
TZNAME:EET
DTSTART:20261025T010000
END:STANDARD
END:VTIMEZONE
BEGIN:VEVENT
DTSTART;TZID=Europe/Helsinki:20250518T120000
DTEND;TZID=Europe/Helsinki:20250518T140000
DTSTAMP:20260421T220450
CREATED:20241012T092009Z
LAST-MODIFIED:20250414T152812Z
UID:1653-1747569600-1747576800@www.kulturmanagement-netzwerk.de
SUMMARY:Netzwerktag 2025: Sonntag\, 18. Mai
DESCRIPTION:Einladung zur Mitgliederversammlung\nSehr geehrtes Mitglied\,\nunsere diesjährige ordentliche Mitgliederversammlung findet statt am 18. Mai 2025 um 12 Uhr im Schmankerl Wirt statt. \n  \nAuf der Tagesordnung stehen folgende Themen: \n\nBegrüßung durch die Vorsitzende des Vorstands\nFeststellung der ordnungsgemäßen Einberufung und der Beschlussfähigkeit der\nMitgliederversammlung\nEntgegennahme des Jahresberichts für das abgelaufene Geschäftsjahr und Entlastung\ndes Vorstands\nVerschiedenes\n\nAnträge auf Ergänzungen der Tagesordnung müssen bis eine Woche vor der Versammlung schriftlich beim Vorstand eingereicht werden\, damit der Vorstand sie noch auf die Tagesordnung setzen kann. Um zahlreiches und pünktliches Erscheinen wird gebeten. \nMit freundlichen Grüßen\nHolger Kurtz\, i.A. des Vorstandes
URL:https://www.kulturmanagement-netzwerk.de/veranstaltung/netzwerktag-2025/
LOCATION:Schmankerl-Wirt\, Tübinger Straße 10\, München\, Bayern\, 80686
CATEGORIES:Netzwerktag
ORGANIZER;CN="KuMa Netzwerk":MAILTO:info@kulturmanagement-muenchen.de
END:VEVENT
END:VCALENDAR