BEGIN:VCALENDAR
VERSION:2.0
PRODID:-//Netzwerk Kultur- und Musikmanagement - ECPv6.15.12.2//NONSGML v1.0//EN
CALSCALE:GREGORIAN
METHOD:PUBLISH
X-WR-CALNAME:Netzwerk Kultur- und Musikmanagement
X-ORIGINAL-URL:https://www.kulturmanagement-netzwerk.de
X-WR-CALDESC:Veranstaltungen für Netzwerk Kultur- und Musikmanagement
REFRESH-INTERVAL;VALUE=DURATION:PT1H
X-Robots-Tag:noindex
X-PUBLISHED-TTL:PT1H
BEGIN:VTIMEZONE
TZID:Europe/Helsinki
BEGIN:DAYLIGHT
TZOFFSETFROM:+0200
TZOFFSETTO:+0300
TZNAME:EEST
DTSTART:20240331T010000
END:DAYLIGHT
BEGIN:STANDARD
TZOFFSETFROM:+0300
TZOFFSETTO:+0200
TZNAME:EET
DTSTART:20241027T010000
END:STANDARD
BEGIN:DAYLIGHT
TZOFFSETFROM:+0200
TZOFFSETTO:+0300
TZNAME:EEST
DTSTART:20250330T010000
END:DAYLIGHT
BEGIN:STANDARD
TZOFFSETFROM:+0300
TZOFFSETTO:+0200
TZNAME:EET
DTSTART:20251026T010000
END:STANDARD
BEGIN:DAYLIGHT
TZOFFSETFROM:+0200
TZOFFSETTO:+0300
TZNAME:EEST
DTSTART:20260329T010000
END:DAYLIGHT
BEGIN:STANDARD
TZOFFSETFROM:+0300
TZOFFSETTO:+0200
TZNAME:EET
DTSTART:20261025T010000
END:STANDARD
END:VTIMEZONE
BEGIN:VEVENT
DTSTART;TZID=Europe/Helsinki:20250628T110000
DTEND;TZID=Europe/Helsinki:20250628T140000
DTSTAMP:20260421T201608
CREATED:20241012T092010Z
LAST-MODIFIED:20250312T101524Z
UID:1645-1751108400-1751119200@www.kulturmanagement-netzwerk.de
SUMMARY:Netzwerk"abend" (2/4) 2025: Samstag\, 28. Juni ab 11 Uhr – Spaziergang an der Isar
DESCRIPTION:Dieses Mal tagsüber und am Wochenende: Am Samstag\, den 28. Juni treffen wir uns um 11 Uhr am Kiosk an der Reichenbachbrücke. Dann spazieren wir an der Isar entlang Richtung Flaucher. Wir sorgen für Verpflegung auf dem Weg mit Getränken und Brezeln.
URL:https://www.kulturmanagement-netzwerk.de/veranstaltung/netzwerkabend-2-4-2025-sonntag-22-juni-ab-11-uhr-spaziergang-an-der-isar/
CATEGORIES:Netzwerkabend
END:VEVENT
END:VCALENDAR