BEGIN:VCALENDAR
VERSION:2.0
PRODID:-//Netzwerk Kultur- und Musikmanagement - ECPv6.15.12.2//NONSGML v1.0//EN
CALSCALE:GREGORIAN
METHOD:PUBLISH
X-WR-CALNAME:Netzwerk Kultur- und Musikmanagement
X-ORIGINAL-URL:https://www.kulturmanagement-netzwerk.de
X-WR-CALDESC:Veranstaltungen für Netzwerk Kultur- und Musikmanagement
REFRESH-INTERVAL;VALUE=DURATION:PT1H
X-Robots-Tag:noindex
X-PUBLISHED-TTL:PT1H
BEGIN:VTIMEZONE
TZID:Europe/Helsinki
BEGIN:DAYLIGHT
TZOFFSETFROM:+0200
TZOFFSETTO:+0300
TZNAME:EEST
DTSTART:20240331T010000
END:DAYLIGHT
BEGIN:STANDARD
TZOFFSETFROM:+0300
TZOFFSETTO:+0200
TZNAME:EET
DTSTART:20241027T010000
END:STANDARD
BEGIN:DAYLIGHT
TZOFFSETFROM:+0200
TZOFFSETTO:+0300
TZNAME:EEST
DTSTART:20250330T010000
END:DAYLIGHT
BEGIN:STANDARD
TZOFFSETFROM:+0300
TZOFFSETTO:+0200
TZNAME:EET
DTSTART:20251026T010000
END:STANDARD
BEGIN:DAYLIGHT
TZOFFSETFROM:+0200
TZOFFSETTO:+0300
TZNAME:EEST
DTSTART:20260329T010000
END:DAYLIGHT
BEGIN:STANDARD
TZOFFSETFROM:+0300
TZOFFSETTO:+0200
TZNAME:EET
DTSTART:20261025T010000
END:STANDARD
END:VTIMEZONE
BEGIN:VEVENT
DTSTART;TZID=Europe/Helsinki:20250829T180000
DTEND;TZID=Europe/Helsinki:20250829T210000
DTSTAMP:20260421T165317
CREATED:20241012T092009Z
LAST-MODIFIED:20250312T101537Z
UID:1648-1756490400-1756501200@www.kulturmanagement-netzwerk.de
SUMMARY:Netzwerkabend (3/4) 2025: 29. August im Biergarten am Wiener Platz
DESCRIPTION:Bevor der Sommer langsam endet\, treffen wir uns bei gutem Wetter im Biergarten am Wiener Platz. Falls es regnet treffen wir uns im angrenzenden Hofbräukeller. \nLos geht’s ab 18 Uhr. Später dazu kommen ist natürlich möglich.
URL:https://www.kulturmanagement-netzwerk.de/veranstaltung/netzwerkabend-3-4-2025-29-august-im-biergarten-am-wiener-platz/
LOCATION:Biergarten am Wiener Platz\, Wiener Platz\, München\, Bayern\, Deutschland
CATEGORIES:Netzwerkabend
ORGANIZER;CN="KuMa Netzwerk":MAILTO:info@kulturmanagement-muenchen.de
END:VEVENT
END:VCALENDAR